BEGIN:VCALENDAR
VERSION:2.0
PRODID:El Segundo Libraries Calendar Creator
METHOD:PUBLISH
BEGIN:VEVENT
DTSTAMP:20211201T094746
DTSTART:20211203T160000
DTEND:20211203T200000
SUMMARY:Festival of Holidays
DESCRIPTION:<p>El Segundo City Hall Plaza will be transformed into a cultural celebration during the Festival of Holidays on Friday, December 3<sup>rd </sup>from 4:00 p.m.– 8:00 p.m. The festival is a family-friendly event and collaboration between the Arts and Culture Advisory and the DEI Committees, and is supported by the El Segundo Cultural Development Program. During the festival, community members will have the opportunity to enjoy a variety of cultures through food, art, and performance.</p><p align="justify">We hope to see you there!</p><h3 align="center"><strong>&nbsp;</strong></h3><h3 align="center"><strong>&nbsp;</strong></h3><h3 align="center"><strong>&nbsp;</strong></h3><h3 align="center"><strong>Schedule</strong><strong>&nbsp;of Performers</strong></h3><ul>    <li><strong>4:00 p.m.&nbsp;</strong>–&nbsp;<strong>BollyPop</strong>&nbsp; – Indian dances</li>    <li><strong>4:30 p.m.&nbsp;</strong>–<strong> Sitaare</strong> – El Segundo youth perform Indian dances</li>    <li><strong>5:00 p.m.&nbsp;</strong>–<strong> Bob Baker Marionette Theater</strong> – Stories of Hanukkah, Christmas and winter</li>    <li><strong>5:30 p.m.&nbsp;</strong>– <strong>El Segundo High School Symphony Orchestra</strong> – Members perform Christmas and Jewish holiday music</li>    <li><strong>6:00 p.m.&nbsp;</strong>–<strong>&nbsp;Ina, The Sunshine Storyteller</strong> – Kwanzaa stories</li>    <li><strong>6:30 p.m.&nbsp;</strong>–<strong>&nbsp;KINGTAE of DANNSEKOU Cultural Arts Collective</strong> – African drum circle</li>    <li><strong>7:00 p.m.&nbsp;</strong>–<strong> Grupo Folklorico de LMU</strong> – Traditional Mexican folk dances</li>    <li><strong>7:30 p.m.&nbsp; </strong>–<strong>&nbsp;Asano Taiko U.S</strong>. – Japanese drumming</li></ul><h3 align="center"><strong>Activity Stations</strong></h3><ul>    <li>Dreidel painting</li>    <li>Diya lamp making</li>    <li>Filipino Parols – Ornamental lanterns by the Flipp Family</li>    <li>Gingerbread cookie decorating</li></ul><h3 align="center"><strong>Food Vendors</strong></h3><ul>    <li>Island Spice Tingz</li>    <li>Mandovi Indian Cuisine</li>    <li>Me Gusta Gourmet Foods</li>    <li>Latkes by Canter's Deli</li>    <li>Soba by Kagura</li>    <li>Sweets and Beverages</li>    <li>Blue Butterfly Coffee</li></ul><h3 align="center"><strong>Craft Vendors<br></strong></h3><ul>    <li>Quetzal Boutique – Mexican crafts</li>    <li>Uncommon Sense Enterprise – African-inspired jewelry and drums</li>    <li>AR Workshop Torrance – DIY Christmas ornament kits</li>    <li>Seigyoku Kihara – Japanese crafts</li></ul><p align="left">&nbsp;</p><p align="center">To learn more, please contact Cultural Arts Coordinator Sam Lee at <br>310-524-2771 or <a href="mailto:slee3@elsegundo.org" target="_blank" rel="noopener">slee3@elsegundo.org</a>, or Senior Librarian Julie Todd at 310-524-2729 or <a href="mailto:jtodd@elsegundo.org" target="_blank" rel="noopener">jtodd@elsegundo.org</a>.</p>
X-ALT-DESC;FMTTYPE=text/html:<p>El Segundo City Hall Plaza will be transformed into a cultural celebration during the Festival of Holidays on Friday, December 3<sup>rd </sup>from 4:00 p.m.– 8:00 p.m. The festival is a family-friendly event and collaboration between the Arts and Culture Advisory and the DEI Committees, and is supported by the El Segundo Cultural Development Program. During the festival, community members will have the opportunity to enjoy a variety of cultures through food, art, and performance.</p><p align="justify">We hope to see you there!</p><h3 align="center"><strong>&nbsp;</strong></h3><h3 align="center"><strong>&nbsp;</strong></h3><h3 align="center"><strong>&nbsp;</strong></h3><h3 align="center"><strong>Schedule</strong><strong>&nbsp;of Performers</strong></h3><ul>    <li><strong>4:00 p.m.&nbsp;</strong>–&nbsp;<strong>BollyPop</strong>&nbsp; – Indian dances</li>    <li><strong>4:30 p.m.&nbsp;</strong>–<strong> Sitaare</strong> – El Segundo youth perform Indian dances</li>    <li><strong>5:00 p.m.&nbsp;</strong>–<strong> Bob Baker Marionette Theater</strong> – Stories of Hanukkah, Christmas and winter</li>    <li><strong>5:30 p.m.&nbsp;</strong>– <strong>El Segundo High School Symphony Orchestra</strong> – Members perform Christmas and Jewish holiday music</li>    <li><strong>6:00 p.m.&nbsp;</strong>–<strong>&nbsp;Ina, The Sunshine Storyteller</strong> – Kwanzaa stories</li>    <li><strong>6:30 p.m.&nbsp;</strong>–<strong>&nbsp;KINGTAE of DANNSEKOU Cultural Arts Collective</strong> – African drum circle</li>    <li><strong>7:00 p.m.&nbsp;</strong>–<strong> Grupo Folklorico de LMU</strong> – Traditional Mexican folk dances</li>    <li><strong>7:30 p.m.&nbsp; </strong>–<strong>&nbsp;Asano Taiko U.S</strong>. – Japanese drumming</li></ul><h3 align="center"><strong>Activity Stations</strong></h3><ul>    <li>Dreidel painting</li>    <li>Diya lamp making</li>    <li>Filipino Parols – Ornamental lanterns by the Flipp Family</li>    <li>Gingerbread cookie decorating</li></ul><h3 align="center"><strong>Food Vendors</strong></h3><ul>    <li>Island Spice Tingz</li>    <li>Mandovi Indian Cuisine</li>    <li>Me Gusta Gourmet Foods</li>    <li>Latkes by Canter's Deli</li>    <li>Soba by Kagura</li>    <li>Sweets and Beverages</li>    <li>Blue Butterfly Coffee</li></ul><h3 align="center"><strong>Craft Vendors<br></strong></h3><ul>    <li>Quetzal Boutique – Mexican crafts</li>    <li>Uncommon Sense Enterprise – African-inspired jewelry and drums</li>    <li>AR Workshop Torrance – DIY Christmas ornament kits</li>    <li>Seigyoku Kihara – Japanese crafts</li></ul><p align="left">&nbsp;</p><p align="center">To learn more, please contact Cultural Arts Coordinator Sam Lee at <br>310-524-2771 or <a href="mailto:slee3@elsegundo.org" target="_blank" rel="noopener">slee3@elsegundo.org</a>, or Senior Librarian Julie Todd at 310-524-2729 or <a href="mailto:jtodd@elsegundo.org" target="_blank" rel="noopener">jtodd@elsegundo.org</a>.</p>
LOCATION:El Segundo City Hall\, 350 Main Street El Segundo\, California 90245
CLASS:PUBLIC
END:VEVENT
END:VCALENDAR
