BEGIN:VCALENDAR
VERSION:2.0
PRODID:El Segundo Libraries Calendar Creator
METHOD:PUBLISH
BEGIN:VEVENT
DTSTAMP:20200514T173212
DTSTART:20200515T000000
DTEND:20200515T235900
SUMMARY:Dog Park Reopens
DESCRIPTION:<div>All visitors must comply with the posted rules and guidelines.&nbsp;</div><ul>    <li>Maintain 6-foot physical distance from all other visitors who are not in your immediate household.</li>    <li>Have a face covering with you and wear it for any interaction with those outside of your immediate household.</li>    <li>Refrain from petting dogs other than your own.</li>    <li>Wash your hands before and after your visit. Bring wipes and hand sanitizer and use frequently.</li>    <li>Bring your own water and bowl. The drinking fountains have been shut off.</li>    <li>Limit your visit to no more than one hour to avoid overcrowding.</li>    <li>If there are too many people in the park to safely keep your distance, do not enter and visit during another time. </li>    <li>Throw all trash away in provided trash cans.</li>    <li>Use park at your own risk.</li></ul>
X-ALT-DESC;FMTTYPE=text/html:<div>All visitors must comply with the posted rules and guidelines.&nbsp;</div><ul>    <li>Maintain 6-foot physical distance from all other visitors who are not in your immediate household.</li>    <li>Have a face covering with you and wear it for any interaction with those outside of your immediate household.</li>    <li>Refrain from petting dogs other than your own.</li>    <li>Wash your hands before and after your visit. Bring wipes and hand sanitizer and use frequently.</li>    <li>Bring your own water and bowl. The drinking fountains have been shut off.</li>    <li>Limit your visit to no more than one hour to avoid overcrowding.</li>    <li>If there are too many people in the park to safely keep your distance, do not enter and visit during another time. </li>    <li>Throw all trash away in provided trash cans.</li>    <li>Use park at your own risk.</li></ul>
LOCATION:
CLASS:PUBLIC
END:VEVENT
END:VCALENDAR
