BEGIN:VCALENDAR
VERSION:2.0
PRODID:El Segundo Libraries Calendar Creator
METHOD:PUBLISH
BEGIN:VEVENT
DTSTAMP:20200511T114539
DTSTART:20200512T140000
DTEND:20200512T150000
SUMMARY:Virtual Town Hall
DESCRIPTION:<p>The City of El Segundo will host a virtual town hall meeting on Tuesday, May 12 at 2 p.m. to answer your questions related to COVID-19 and the city's response.</p><ul>    <li>Moderator: Randal Collins, Emergency Management Coordinator</li>    <li>Opening Remarks &amp; Introductions</li>    <li>Panelists:    <ul>        <li>Barbara Voss, Deputy City Manager</li>        <li>Carol Pirsztuk,&nbsp;Councilmember</li>        <li>Scot Nicol, Councilmember</li>        <li>Dr. Cohen, Medical Director for the City of El Segundo</li>        <li>Bill Whalen, Chief of Police</li>        <li>Meredith Petit, Director of Recreation and Parks</li>        <li>Jeff Leyman, All Hazards Incident Management Team (AHIMT) Incident Commander</li>    </ul>    </li>    <li>Community Questions &amp; Answers</li></ul><p>Tune in to watch the live virtual town hall on Facebook @cityofelsegundo OR on&nbsp;<a href="https://www.elsegundo.org/our-city/el-segundo-tv">El Segundo TV</a>&nbsp;OR watch live via the&nbsp;<a href="http://www.elsegundo.org/" target="_blank">website</a>. You can access Watch Live from the homepage of the website, click the "<a href="http://elsegundo.granicus.com/MediaPlayer.php?publish_id=2" target="_blank">Watch Live</a>" icon.&nbsp;</p>
X-ALT-DESC;FMTTYPE=text/html:<p>The City of El Segundo will host a virtual town hall meeting on Tuesday, May 12 at 2 p.m. to answer your questions related to COVID-19 and the city's response.</p><ul>    <li>Moderator: Randal Collins, Emergency Management Coordinator</li>    <li>Opening Remarks &amp; Introductions</li>    <li>Panelists:    <ul>        <li>Barbara Voss, Deputy City Manager</li>        <li>Carol Pirsztuk,&nbsp;Councilmember</li>        <li>Scot Nicol, Councilmember</li>        <li>Dr. Cohen, Medical Director for the City of El Segundo</li>        <li>Bill Whalen, Chief of Police</li>        <li>Meredith Petit, Director of Recreation and Parks</li>        <li>Jeff Leyman, All Hazards Incident Management Team (AHIMT) Incident Commander</li>    </ul>    </li>    <li>Community Questions &amp; Answers</li></ul><p>Tune in to watch the live virtual town hall on Facebook @cityofelsegundo OR on&nbsp;<a href="https://www.elsegundo.org/our-city/el-segundo-tv">El Segundo TV</a>&nbsp;OR watch live via the&nbsp;<a href="http://www.elsegundo.org/" target="_blank">website</a>. You can access Watch Live from the homepage of the website, click the "<a href="http://elsegundo.granicus.com/MediaPlayer.php?publish_id=2" target="_blank">Watch Live</a>" icon.&nbsp;</p>
LOCATION:
CLASS:PUBLIC
END:VEVENT
END:VCALENDAR
