BEGIN:VCALENDAR
VERSION:2.0
PRODID:El Segundo Libraries Calendar Creator
METHOD:PUBLISH
BEGIN:VEVENT
DTSTAMP:20260421T121859
DTSTART:20260422T150000
DTEND:20260422T160000
SUMMARY:CIPAC SPECIAL MEETING 4-22-26
DESCRIPTION:<p><strong>Agenda Packet:</strong><a href="https://www.elsegundo.gov/home/showdocument?id=12739&amp;t=639123700807661878" target="_self"></a></p><p><a href="https://www.elsegundo.gov/home/showdocument?id=12739&amp;t=639123700807661878" target="_self">&nbsp;</a><a href="https://www.elsegundo.gov/home/showdocument?id=12739&amp;t=639123700807661878" target="_self">4-22-26 CIPAC special agenda packet</a>&nbsp;</p><p>&nbsp;SPECIAL MEETING OF THE CAPITAL IMPROVEMENT PROGRAM ADVISORY COMMITTEE.</p>
X-ALT-DESC;FMTTYPE=text/html:<p><strong>Agenda Packet:</strong><a href="https://www.elsegundo.gov/home/showdocument?id=12739&amp;t=639123700807661878" target="_self"></a></p><p><a href="https://www.elsegundo.gov/home/showdocument?id=12739&amp;t=639123700807661878" target="_self">&nbsp;</a><a href="https://www.elsegundo.gov/home/showdocument?id=12739&amp;t=639123700807661878" target="_self">4-22-26 CIPAC special agenda packet</a>&nbsp;</p><p>&nbsp;SPECIAL MEETING OF THE CAPITAL IMPROVEMENT PROGRAM ADVISORY COMMITTEE.</p>
LOCATION:City Hall (Executive Conference Room)\, 350 Main Street El Segundo\, California 90245
CLASS:PUBLIC
END:VEVENT
END:VCALENDAR
