BEGIN:VCALENDAR
VERSION:2.0
PRODID:El Segundo Libraries Calendar Creator
METHOD:PUBLISH
BEGIN:VEVENT
DTSTAMP:20260421T081313
DTSTART:20260421T153000
DTEND:20260421T170000
SUMMARY:Switch It Up! Teen Gaming program
DESCRIPTION:<p><p>Calling all teens!<br>Join us for an epic afternoon of gaming, fun, and snacks!</p></p><p>Whether you bring your own Switch or prefer gaming on our big screen, you'll have a blast.<br>&nbsp;Challenge your friends and meet other gamers!</p><p>&nbsp;No registration required. For teens 6th-12th grade.</p>
X-ALT-DESC;FMTTYPE=text/html:<p><p>Calling all teens!<br>Join us for an epic afternoon of gaming, fun, and snacks!</p></p><p>Whether you bring your own Switch or prefer gaming on our big screen, you'll have a blast.<br>&nbsp;Challenge your friends and meet other gamers!</p><p>&nbsp;No registration required. For teens 6th-12th grade.</p>
LOCATION:El Segundo Public Library\, 111 W. Mariposa Avenue El Segundo\, California 90245
CLASS:PUBLIC
END:VEVENT
END:VCALENDAR
