BEGIN:VCALENDAR
VERSION:2.0
PRODID:El Segundo Libraries Calendar Creator
METHOD:PUBLISH
BEGIN:VEVENT
DTSTAMP:20260420T135801
DTSTART:20260423T160000
DTEND:20260423T180000
SUMMARY:Canceled - Park Renovation Subcommittee Meeting
DESCRIPTION:The City of El Segundo Park Renovation Subcommittee Meeting scheduled for Thursday, April 23, 2026, has been canceled due to lack of items to discuss.&nbsp;
X-ALT-DESC;FMTTYPE=text/html:The City of El Segundo Park Renovation Subcommittee Meeting scheduled for Thursday, April 23, 2026, has been canceled due to lack of items to discuss.&nbsp;
LOCATION:City Hall (Executive Conference Room)\, 350 Main Street El Segundo\, California 90245
CLASS:PUBLIC
END:VEVENT
END:VCALENDAR
