BEGIN:VCALENDAR
VERSION:2.0
PRODID:El Segundo Libraries Calendar Creator
METHOD:PUBLISH
BEGIN:VEVENT
DTSTAMP:20260303T090947
DTSTART:20260328T120000
DTEND:20260328T170000
SUMMARY:Community Event: Kiwanis Club Chilipalooza 2026
DESCRIPTION:<p>Come out for El Segundo’s Chili Champ! Cook, taste, or just enjoy a fun-filled block party in the park with live music, cornhole, and family-friendly games. Open to the public and free to attend, with tickets available for chili tasting, the beer and spirits garden, and the wine bar.</p><p><span style="text-decoration: underline;">Compete to become El Segundo's Chili Champ!</span> <br>There will be two categories: traditional and plant-based. A judges' panel of local restaurateurs will select one winner in each category. Additionally, a People’s Choice winner will be chosen in both categories. Winners will receive a prize and a place in history.   Chili Sign Up Voting closes at 3:30, and winners will be announced at 4 p.m.&nbsp;</p><p><span style="text-decoration: underline;">Chilipalooza Cornhole Tournament</span><br>From 1 - 4 p.m. (check in at 12:30 pm), the tournament will be a four-game round-robin and a single elimination bracket with two divisions: social and competitive.</p><p>For more information and to sign up, visit <a href="https://gundochili.com/" target="_blank" rel="noopener">gundochili.com</a>.</p>
X-ALT-DESC;FMTTYPE=text/html:<p>Come out for El Segundo’s Chili Champ! Cook, taste, or just enjoy a fun-filled block party in the park with live music, cornhole, and family-friendly games. Open to the public and free to attend, with tickets available for chili tasting, the beer and spirits garden, and the wine bar.</p><p><span style="text-decoration: underline;">Compete to become El Segundo's Chili Champ!</span> <br>There will be two categories: traditional and plant-based. A judges' panel of local restaurateurs will select one winner in each category. Additionally, a People’s Choice winner will be chosen in both categories. Winners will receive a prize and a place in history.   Chili Sign Up Voting closes at 3:30, and winners will be announced at 4 p.m.&nbsp;</p><p><span style="text-decoration: underline;">Chilipalooza Cornhole Tournament</span><br>From 1 - 4 p.m. (check in at 12:30 pm), the tournament will be a four-game round-robin and a single elimination bracket with two divisions: social and competitive.</p><p>For more information and to sign up, visit <a href="https://gundochili.com/" target="_blank" rel="noopener">gundochili.com</a>.</p>
LOCATION:Library Park\, 600 Block of Main Street El Segundo\, California 90245
CLASS:PUBLIC
END:VEVENT
END:VCALENDAR
