BEGIN:VCALENDAR
VERSION:2.0
PRODID:El Segundo Libraries Calendar Creator
METHOD:PUBLISH
BEGIN:VEVENT
DTSTAMP:20260312T183115
DTSTART:20260317T153000
DTEND:20260317T163000
SUMMARY:Cancelled- Crafteen
DESCRIPTION:Due to unforeseen circumstances (3/17/26) Crafteen has been cancelled.<br>We apologize for any inconveniences. Crafteen will return in May.&nbsp;
X-ALT-DESC;FMTTYPE=text/html:Due to unforeseen circumstances (3/17/26) Crafteen has been cancelled.<br>We apologize for any inconveniences. Crafteen will return in May.&nbsp;
LOCATION:El Segundo Public Library\, 111 W. Mariposa Avenue El Segundo\, California 90245
CLASS:PUBLIC
END:VEVENT
END:VCALENDAR
