BEGIN:VCALENDAR
VERSION:2.0
PRODID:El Segundo Libraries Calendar Creator
METHOD:PUBLISH
BEGIN:VEVENT
DTSTAMP:20260320T114825
DTSTART:20260404T133000
DTEND:20260404T150000
SUMMARY:Underwater EGGstravaganza
DESCRIPTION:<p>Join us at the El Segundo Aquatics Center as we dive-in into some fun and catch those floating eggs! There will be music, candy, &amp; prizes so make sure you register early as space is limited.</p><p>Register online at <a href="https://secure.rec1.com/CA/el-segundo-ca/catalog" target="_blank" rel="noopener">www.esrec.org</a>.&nbsp;</p><p></p>
X-ALT-DESC;FMTTYPE=text/html:<p>Join us at the El Segundo Aquatics Center as we dive-in into some fun and catch those floating eggs! There will be music, candy, &amp; prizes so make sure you register early as space is limited.</p><p>Register online at <a href="https://secure.rec1.com/CA/el-segundo-ca/catalog" target="_blank" rel="noopener">www.esrec.org</a>.&nbsp;</p><p></p>
LOCATION:City of El Segundo Wiseburn Unified School District Aquatics Center\, 2240 E. Grand Ave. El Segundo\, California 90245
CLASS:PUBLIC
END:VEVENT
END:VCALENDAR
