BEGIN:VCALENDAR
VERSION:2.0
PRODID:El Segundo Libraries Calendar Creator
METHOD:PUBLISH
BEGIN:VEVENT
DTSTAMP:20260320T114348
DTSTART:20260404T090000
DTEND:20260404T123000
SUMMARY:Summer Camp Expo
DESCRIPTION:<p>Discover what’s in store for summer! Meet our camp staff and contractors, explore hands-on demos, and find the perfect camps for your kids before summer begins!</p><p>Summer camp registration is open online at <em><a href="https://secure.rec1.com/CA/el-segundo-ca/catalog" target="_blank" rel="noopener">www.esrec.org</a></em> or in-person at our Recreation Park facilities.</p><p></p>
X-ALT-DESC;FMTTYPE=text/html:<p>Discover what’s in store for summer! Meet our camp staff and contractors, explore hands-on demos, and find the perfect camps for your kids before summer begins!</p><p>Summer camp registration is open online at <em><a href="https://secure.rec1.com/CA/el-segundo-ca/catalog" target="_blank" rel="noopener">www.esrec.org</a></em> or in-person at our Recreation Park facilities.</p><p></p>
LOCATION:Recreation Park\, 401 Sheldon Street El Segundo\, California 90245
CLASS:PUBLIC
END:VEVENT
END:VCALENDAR
